BEGIN:VCALENDAR
VERSION:2.0
PRODID:-//sebbo.net//ical-generator//EN
BEGIN:VEVENT
UID:ecc19b52-3511-4c7f-b6c5-7f252431c956
SEQUENCE:0
DTSTAMP:20260421T054510Z
DTSTART:20261118T180000Z
DTEND:20261118T210000Z
SUMMARY:CONNY & Liser - Ælpha Male Club Tour 2026 - München - Backstage 
 Halle
LOCATION:Backstage Halle\, Reitknechtstr. 6\, 80639 München\, Germany
DESCRIPTION:Doors: 19:00 Uhr\, Start: 20:00
END:VEVENT
END:VCALENDAR