BEGIN:VCALENDAR
VERSION:2.0
PRODID:-//sebbo.net//ical-generator//EN
BEGIN:VEVENT
UID:6b38b1fd-a55b-4736-9218-b2f098b0f70b
SEQUENCE:0
DTSTAMP:20260420T025715Z
DTSTART:20261030T180000Z
DTEND:20261030T210000Z
SUMMARY:CONNY & Liser - Ælpha Male Club Tour 2026 - Berlin - Columbia The
 ater
LOCATION:Columbia Theater\, Columbiadamm 9-11\, 10965 Berlin\, Deutschland
DESCRIPTION:Einlass: 19:00 Uhr\, Beginn: 20:00
END:VEVENT
END:VCALENDAR